BEGIN:VCALENDAR
VERSION:2.0
PRODID:-//ExpressionEngine Easy iCalendar plugin//NONSGML v2.0.1//EN
X-WR-TIMEZONE:America/New_York
X-WR-CALNAME:Upcoming Auctions
BEGIN:VEVENT
UID:141775
DTSTAMP:20250714T160000
DTSTART:20250714T160000
DTEND:20250714T170000
SUMMARY:SOLD PRIOR TO AUCTION! 812 Bartley Place
LOCATION:812 Bartley Place\, Toledo\, OH 43609\, US
DESCRIPTION:SOLD PRIOR TO AUCTION! 
URL:https://www.amlinauctions.com/auctions/detail/bw141775
SEQUENCE:1
END:VEVENT
END:VCALENDAR