BEGIN:VCALENDAR
VERSION:2.0
PRODID:-//ExpressionEngine Easy iCalendar plugin//NONSGML v2.0.1//EN
X-WR-TIMEZONE:America/New_York
X-WR-CALNAME:Upcoming Auctions
BEGIN:VEVENT
UID:141738
DTSTAMP:20250603T083100
DTSTART:20250603T083100
DTEND:20250618T150000
SUMMARY:PART 1 CLASSIC CARS AND MEMORABILA TWO PART ONLINE ONLY AUCT
 ION
LOCATION:8633 OH-15\, Defiance\, OH 43512\, US
DESCRIPTION:From Classic Rides to Rare Finds: An Unforgettable Auction E
 vent!
URL:https://www.amlinauctions.com/auctions/detail/bw141738
SEQUENCE:1
END:VEVENT
END:VCALENDAR