BEGIN:VCALENDAR
VERSION:2.0
PRODID:-//ExpressionEngine Easy iCalendar plugin//NONSGML v2.0.1//EN
X-WR-TIMEZONE:America/New_York
X-WR-CALNAME:Upcoming Auctions
BEGIN:VEVENT
UID:141736
DTSTAMP:20250603T080600
DTSTART:20250603T080600
DTEND:20250618T160000
SUMMARY:PART 2 CLASSIC CARS\, MEMORABILLA TWO PART ONLINE ONLY AUCTIO
 N
LOCATION:8633 OH-15\, DEFIANCE\, OH 43512\, US
DESCRIPTION:From Classic Rides to Rare Finds: An Unforgettable Auction E
 vent!
URL:https://www.amlinauctions.com/auctions/detail/bw141736
SEQUENCE:1
END:VEVENT
END:VCALENDAR