BEGIN:VCALENDAR
VERSION:2.0
PRODID:-//ExpressionEngine Easy iCalendar plugin//NONSGML v2.0.1//EN
X-WR-TIMEZONE:America/New_York
X-WR-CALNAME:Upcoming Auctions
BEGIN:VEVENT
UID:141681
DTSTAMP:20250618T133000
DTSTART:20250618T133000
DTEND:20250618T143000
SUMMARY:MULTI-LOCATION STORAGE AUCTIONS!
LOCATION:302 N Byrne Rd\, Toledo\, OH 43607\, US
DESCRIPTION:3 Locations!
URL:https://www.amlinauctions.com/auctions/detail/bw141681
SEQUENCE:1
END:VEVENT
END:VCALENDAR