BEGIN:VCALENDAR
VERSION:2.0
PRODID:-//ExpressionEngine Easy iCalendar plugin//NONSGML v2.0.1//EN
X-WR-TIMEZONE:America/New_York
X-WR-CALNAME:Upcoming Auctions
BEGIN:VEVENT
UID:141593
DTSTAMP:20250630T160000
DTSTART:20250630T160000
DTEND:20250630T170000
SUMMARY:MINIMUM BID AUCTION $119\,000! 3249 N. Eastmoreland Dr
LOCATION:3249 N. Eastmoreland Dr. \, Oregon\, OH 43616\, US
DESCRIPTION:3-bedroom ranch in Oregon schools! 
URL:https://www.amlinauctions.com/auctions/detail/bw141593
SEQUENCE:1
END:VEVENT
END:VCALENDAR