BEGIN:VCALENDAR
VERSION:2.0
PRODID:-//ExpressionEngine Easy iCalendar plugin//NONSGML v2.0.1//EN
X-WR-TIMEZONE:America/New_York
X-WR-CALNAME:Upcoming Auctions
BEGIN:VEVENT
UID:141582
DTSTAMP:20250702T160000
DTSTART:20250702T160000
DTEND:20250702T170000
SUMMARY:SOLD PRIOR TO AUCTION! 224 Beach St
LOCATION:224 Beach St\, Northwood\, OH 43619\, US
DESCRIPTION:SOLD PRIOR TO AUCTION! 
URL:https://www.amlinauctions.com/auctions/detail/bw141582
SEQUENCE:1
END:VEVENT
END:VCALENDAR