BEGIN:VCALENDAR
VERSION:2.0
PRODID:-//ExpressionEngine Easy iCalendar plugin//NONSGML v2.0.1//EN
X-WR-TIMEZONE:America/New_York
X-WR-CALNAME:Upcoming Auctions
BEGIN:VEVENT
UID:141350
DTSTAMP:20250626T160000
DTSTART:20250626T160000
DTEND:20250626T170000
SUMMARY:SOLD PRIOR TO AUCTION!  2125 Wyndhurst Rd
LOCATION:2125 Wyndhurst Rd\, Toledo\, OH 43607\, US
DESCRIPTION:SOLD PRIOR TO AUCTION! 
URL:https://www.amlinauctions.com/auctions/detail/bw141350
SEQUENCE:1
END:VEVENT
END:VCALENDAR