BEGIN:VCALENDAR
VERSION:2.0
PRODID:-//ExpressionEngine Easy iCalendar plugin//NONSGML v2.0.1//EN
X-WR-TIMEZONE:America/New_York
X-WR-CALNAME:Upcoming Auctions
BEGIN:VEVENT
UID:141191
DTSTAMP:20250625T160000
DTSTART:20250625T160000
DTEND:20250625T170000
SUMMARY:MINIMUM BID AUCTION $70\,000! 4409 Fairview
LOCATION:4409 Fairview \, Toledo\, OH 43612\, US
DESCRIPTION:Cute 3 bed home!
URL:https://www.amlinauctions.com/auctions/detail/bw141191
SEQUENCE:1
END:VEVENT
END:VCALENDAR