BEGIN:VCALENDAR
VERSION:2.0
PRODID:-//ExpressionEngine Easy iCalendar plugin//NONSGML v2.0.1//EN
X-WR-TIMEZONE:America/New_York
X-WR-CALNAME:Upcoming Auctions
BEGIN:VEVENT
UID:141126
DTSTAMP:20250702T160000
DTSTART:20250702T160000
DTEND:20250702T170000
SUMMARY:SOLD PRIOR TO AUCTION! 1525 Reswick Dr
LOCATION:1525 Rewsick Dr \, Oregon\, OH 43616\, US
DESCRIPTION:2-bedroom home in Oregon! 
URL:https://www.amlinauctions.com/auctions/detail/bw141126
SEQUENCE:1
END:VEVENT
END:VCALENDAR