BEGIN:VCALENDAR
VERSION:2.0
PRODID:-//ExpressionEngine Easy iCalendar plugin//NONSGML v2.0.1//EN
X-WR-TIMEZONE:America/New_York
X-WR-CALNAME:Upcoming Auctions
BEGIN:VEVENT
UID:141070
DTSTAMP:20250624T160000
DTSTART:20250624T160000
DTEND:20250624T170000
SUMMARY:SOLD PRIOR TO AUCTION! 3634 Corey Rd
LOCATION:3634 Corey Rd\, Toledo\, OH 43615\, US
DESCRIPTION:SOLD PRIOR TO AUCTION! 
URL:https://www.amlinauctions.com/auctions/detail/bw141070
SEQUENCE:1
END:VEVENT
END:VCALENDAR