BEGIN:VCALENDAR
VERSION:2.0
PRODID:-//ExpressionEngine Easy iCalendar plugin//NONSGML v2.0.0//EN
X-WR-TIMEZONE:America/New_York
X-WR-CALNAME:Upcoming Auctions
BEGIN:VEVENT
UID:140961
DTSTAMP:20250618T160500
DTSTART:20250618T160500
DTEND:20250618T170500
SUMMARY:MINIMUM BID AUCTION $160\,000! 26331 Pemberville Rd
LOCATION:26331 Pemberville Rd\, Perrysburg \, OH 43551\, US
DESCRIPTION:4 bedroom brick home!
URL:https://www.amlinauctions.com/auctions/detail/bw140961
SEQUENCE:1
END:VEVENT
END:VCALENDAR