BEGIN:VCALENDAR
VERSION:2.0
PRODID:-//ExpressionEngine Easy iCalendar plugin//NONSGML v2.0.1//EN
X-WR-TIMEZONE:America/New_York
X-WR-CALNAME:Upcoming Auctions
BEGIN:VEVENT
UID:140583
DTSTAMP:20250609T160000
DTSTART:20250609T160000
DTEND:20250609T170000
SUMMARY:MINIMUM BID AUCTION $435\,000! 1600 Smith Rd
LOCATION:1600 Smith Rd\, Temperance \, MI 48182\, US
DESCRIPTION:Small Business Park!
URL:https://www.amlinauctions.com/auctions/detail/bw140583
SEQUENCE:1
END:VEVENT
END:VCALENDAR