BEGIN:VCALENDAR
VERSION:2.0
PRODID:-//ExpressionEngine Easy iCalendar plugin//NONSGML v2.0.1//EN
X-WR-TIMEZONE:America/New_York
X-WR-CALNAME:Upcoming Auctions
BEGIN:VEVENT
UID:140286
DTSTAMP:20250617T160000
DTSTART:20250617T160000
DTEND:20250617T170000
SUMMARY:MINIMUM BID AUCTION $159\,000! 4264 County Road 5
LOCATION:4264 County Road 5\, Delta\, OH 43616\, US
DESCRIPTION:Great Location!
URL:https://www.amlinauctions.com/auctions/detail/bw140286
SEQUENCE:1
END:VEVENT
END:VCALENDAR