BEGIN:VCALENDAR
VERSION:2.0
PRODID:-//ExpressionEngine Easy iCalendar plugin//NONSGML v2.0.1//EN
X-WR-TIMEZONE:America/New_York
X-WR-CALNAME:Upcoming Auctions
BEGIN:VEVENT
UID:140282
DTSTAMP:20250605T160000
DTSTART:20250605T160000
DTEND:20250605T170000
SUMMARY:POSTPONED UNTIL FURTHER NOTICE! 1949 Metz Ave
LOCATION:1949 Metz Ave\, Oregon\, OH 43616\, US
DESCRIPTION:POSTPONED UNTIL FURTHER NOTICE!
URL:https://www.amlinauctions.com/auctions/detail/bw140282
SEQUENCE:1
END:VEVENT
END:VCALENDAR