BEGIN:VCALENDAR
VERSION:2.0
PRODID:-//ExpressionEngine Easy iCalendar plugin//NONSGML v2.0.1//EN
X-WR-TIMEZONE:America/New_York
X-WR-CALNAME:Upcoming Auctions
BEGIN:VEVENT
UID:140184
DTSTAMP:20250616T160000
DTSTART:20250616T160000
DTEND:20250616T170000
SUMMARY:MINIMUM BID AUCTION $250\,000! 2995 County Road E
LOCATION:2995 County Road E\, Swanton\, OH 43558\, US
DESCRIPTION:Over 3 acres w/ barn!
URL:https://www.amlinauctions.com/auctions/detail/bw140184
SEQUENCE:1
END:VEVENT
END:VCALENDAR