BEGIN:VCALENDAR
VERSION:2.0
PRODID:-//ExpressionEngine Easy iCalendar plugin//NONSGML v2.0.1//EN
X-WR-TIMEZONE:America/New_York
X-WR-CALNAME:Upcoming Auctions
BEGIN:VEVENT
UID:140111
DTSTAMP:20250528T133000
DTSTART:20250528T133000
DTEND:20250528T143000
SUMMARY:FORT SELF STORAGE AUCTION!
LOCATION:1160 South McCord Rd \, Holland\, OH 43528\, US
DESCRIPTION:Fort Self Storage **STOP N LOCK HAS BEEN CANCELLED FOR BOTH 
 LOCATIONS!**
URL:https://www.amlinauctions.com/auctions/detail/bw140111
SEQUENCE:1
END:VEVENT
END:VCALENDAR