BEGIN:VCALENDAR
VERSION:2.0
PRODID:-//ExpressionEngine Easy iCalendar plugin//NONSGML v2.0.1//EN
X-WR-TIMEZONE:America/New_York
X-WR-CALNAME:Upcoming Auctions
BEGIN:VEVENT
UID:140109
DTSTAMP:20250612T160000
DTSTART:20250612T160000
DTEND:20250612T170000
SUMMARY:MINIMUM BID AUCTION $9\,000! 364 Burger St
LOCATION:364 Burger St\, Toledo\, OH 43605\, US
DESCRIPTION:4 Unit Multi Family!
URL:https://www.amlinauctions.com/auctions/detail/bw140109
SEQUENCE:1
END:VEVENT
END:VCALENDAR