BEGIN:VCALENDAR
VERSION:2.0
PRODID:-//ExpressionEngine Easy iCalendar plugin//NONSGML v2.0.1//EN
X-WR-TIMEZONE:America/New_York
X-WR-CALNAME:Upcoming Auctions
BEGIN:VEVENT
UID:140091
DTSTAMP:20250505T075800
DTSTART:20250505T075800
DTEND:20250513T180000
SUMMARY:BOAT\, MOWERS\, TOOLS AND MORE ONLINE ONLY AUCTION
LOCATION:654 Parker Ave\, Toledo\, OH 43605\, US
DESCRIPTION:Bidding will end on Tuesday\, May 13th at 6:00PM. Auction pr
 eview will be Monday\, May 12th from 12:00AM till 1:00PM. Loa
 d out will be Thursday\, May 15th From 10:00AM till 2:00PM. 
 All items are located at 654 Parker Ave\, Toledo\, Ohio\, 43605
 .
URL:https://www.amlinauctions.com/auctions/detail/bw140091
SEQUENCE:1
END:VEVENT
END:VCALENDAR