BEGIN:VCALENDAR
VERSION:2.0
PRODID:-//ExpressionEngine Easy iCalendar plugin//NONSGML v2.0.1//EN
X-WR-TIMEZONE:America/New_York
X-WR-CALNAME:Upcoming Auctions
BEGIN:VEVENT
UID:139535
DTSTAMP:20250522T160000
DTSTART:20250522T160000
DTEND:20250522T170000
SUMMARY:MINIMUM BID AUCTION $399\,000! 9114 Oak Valley Rd
LOCATION:9114 Oak Valley Rd.\, Holland\, OH 43528\, US
DESCRIPTION:Stunning home in Stone Oak on the golf course! 
URL:https://www.amlinauctions.com/auctions/detail/bw139535
SEQUENCE:1
END:VEVENT
END:VCALENDAR