BEGIN:VCALENDAR
VERSION:2.0
PRODID:-//ExpressionEngine Easy iCalendar plugin//NONSGML v2.0.1//EN
X-WR-TIMEZONE:America/New_York
X-WR-CALNAME:Upcoming Auctions
BEGIN:VEVENT
UID:139470
DTSTAMP:20250529T160000
DTSTART:20250529T160000
DTEND:20250529T170000
SUMMARY:SOLD PRIOR TO AUCTION! 4402 Vermaas Ave
LOCATION:4402 Vermaas Ave.\, Toledo\, OH 43612\, US
DESCRIPTION:SOLD PRIOR TO AUCTION! 
URL:https://www.amlinauctions.com/auctions/detail/bw139470
SEQUENCE:1
END:VEVENT
END:VCALENDAR