BEGIN:VCALENDAR
VERSION:2.0
PRODID:-//ExpressionEngine Easy iCalendar plugin//NONSGML v2.0.1//EN
X-WR-TIMEZONE:America/New_York
X-WR-CALNAME:Upcoming Auctions
BEGIN:VEVENT
UID:139469
DTSTAMP:20250515T160000
DTSTART:20250515T160000
DTEND:20250515T170000
SUMMARY:MINIMUM BID AUCTION $49\,000! 1327 W. Sylvania Ave
LOCATION:1327 W. Sylvania Ave.\, Toledo\, OH 43612\, US
DESCRIPTION:Two duplexes! 
URL:https://www.amlinauctions.com/auctions/detail/bw139469
SEQUENCE:1
END:VEVENT
END:VCALENDAR