BEGIN:VCALENDAR
VERSION:2.0
PRODID:-//ExpressionEngine Easy iCalendar plugin//NONSGML v2.0.1//EN
X-WR-TIMEZONE:America/New_York
X-WR-CALNAME:Upcoming Auctions
BEGIN:VEVENT
UID:139401
DTSTAMP:20250422T141400
DTSTART:20250422T141400
DTEND:20250429T180000
SUMMARY:TRUCK\, MOWERS AND TOOLS ONLINE ONLY AUCTION
LOCATION:654 Parker Ave\, Toledo\, OH 43605\, US
DESCRIPTION:Bidding will end on Tuesday\, April 29th at 6:00PM. Auction p
 review will be Monday\, April 28th from 12:00PM till 1:00PM. 
 Load out will be Thursday\, May 1st From 10:00AM till 2:00PM
 . All items are located at 654 Parker Ave\, Toledo\, Ohio\, 436
 05. Access to the house is through the ally behind the home!
URL:https://www.amlinauctions.com/auctions/detail/bw139401
SEQUENCE:1
END:VEVENT
END:VCALENDAR