BEGIN:VCALENDAR
VERSION:2.0
PRODID:-//ExpressionEngine Easy iCalendar plugin//NONSGML v2.0.1//EN
X-WR-TIMEZONE:America/New_York
X-WR-CALNAME:Upcoming Auctions
BEGIN:VEVENT
UID:139317
DTSTAMP:20250602T160000
DTSTART:20250602T160000
DTEND:20250602T170000
SUMMARY:MINIMUM BID AUCTION $60\,000! 1486 Slater St.
LOCATION:1486 Slater St\, Toledo\, OH 43612\, US
DESCRIPTION:3-bedroom ranch with 2-car garage 
URL:https://www.amlinauctions.com/auctions/detail/bw139317
SEQUENCE:1
END:VEVENT
END:VCALENDAR