BEGIN:VCALENDAR
VERSION:2.0
PRODID:-//ExpressionEngine Easy iCalendar plugin//NONSGML v2.0.1//EN
X-WR-TIMEZONE:America/New_York
X-WR-CALNAME:Upcoming Auctions
BEGIN:VEVENT
UID:139219
DTSTAMP:20250418T075300
DTSTART:20250418T075300
DTEND:20250427T180000
SUMMARY:JOHN DEERE\, TRAILERS\, TOOLS AND MORE ONLINE ONLY AUCTION
LOCATION:22450 Walnut St\, Perrysburg\, OH 43551\, US
DESCRIPTION:Bidding will end on Sunday\, April 27th at 6:00PM. Auction pr
 eview will be Thursday\, April 24th from 11:00AM till 1:00PM.
  Load out will be Tuesday\, April 29th From 10:00AM till 2:00
 PM. All items are located at 22450 Walnut St\, Perrysburg\, Oh
 io\, 43551.
URL:https://www.amlinauctions.com/auctions/detail/bw139219
SEQUENCE:1
END:VEVENT
END:VCALENDAR