BEGIN:VCALENDAR
VERSION:2.0
PRODID:-//ExpressionEngine Easy iCalendar plugin//NONSGML v2.0.1//EN
X-WR-TIMEZONE:America/New_York
X-WR-CALNAME:Upcoming Auctions
BEGIN:VEVENT
UID:138886
DTSTAMP:20250513T160000
DTSTART:20250513T160000
DTEND:20250513T170000
SUMMARY:MINIMUM BID AUCTION $149\,000! 1004 Elm St
LOCATION:1004 Elm St\, Perrysburg\, OH 43551\, US
DESCRIPTION:Perrysburg School District!
URL:https://www.amlinauctions.com/auctions/detail/bw138886
SEQUENCE:1
END:VEVENT
END:VCALENDAR