BEGIN:VCALENDAR
VERSION:2.0
PRODID:-//ExpressionEngine Easy iCalendar plugin//NONSGML v2.0.1//EN
X-WR-TIMEZONE:America/New_York
X-WR-CALNAME:Upcoming Auctions
BEGIN:VEVENT
UID:138792
DTSTAMP:20250512T160000
DTSTART:20250512T160000
DTEND:20250512T170000
SUMMARY:MINIMUM BID AUCTION $125\,000! 5315 Jaycox
LOCATION:5315 Jaycox Rd\, North Ridgeville\, OH 44039\, US
DESCRIPTION:3 Bed in N Ridgeville!
URL:https://www.amlinauctions.com/auctions/detail/bw138792
SEQUENCE:1
END:VEVENT
END:VCALENDAR