BEGIN:VCALENDAR
VERSION:2.0
PRODID:-//ExpressionEngine Easy iCalendar plugin//NONSGML v2.0.1//EN
X-WR-TIMEZONE:America/New_York
X-WR-CALNAME:Upcoming Auctions
BEGIN:VEVENT
UID:138779
DTSTAMP:20250507T160000
DTSTART:20250507T160000
DTEND:20250507T170000
SUMMARY:SOLD PRIOR TO AUCTION! 906 Harrow Rd.
LOCATION:906 Harrow Rd\, Toledo\, OH 43615\, US
DESCRIPTION:SOLD PRIOR TO AUCTION!
URL:https://www.amlinauctions.com/auctions/detail/bw138779
SEQUENCE:1
END:VEVENT
END:VCALENDAR