BEGIN:VCALENDAR
VERSION:2.0
PRODID:-//ExpressionEngine Easy iCalendar plugin//NONSGML v2.0.1//EN
X-WR-TIMEZONE:America/New_York
X-WR-CALNAME:Upcoming Auctions
BEGIN:VEVENT
UID:138778
DTSTAMP:20250423T133000
DTSTART:20250423T133000
DTEND:20250423T143000
SUMMARY:STOP N LOCK STORAGE AUCTION!
LOCATION:302 N. BYRNE RD.\, Toledo\, OH 43607\, US
DESCRIPTION:BYRNE RD LOCATION! 
URL:https://www.amlinauctions.com/auctions/detail/bw138778
SEQUENCE:1
END:VEVENT
END:VCALENDAR