BEGIN:VCALENDAR
VERSION:2.0
PRODID:-//ExpressionEngine Easy iCalendar plugin//NONSGML v2.0.1//EN
X-WR-TIMEZONE:America/New_York
X-WR-CALNAME:Upcoming Auctions
BEGIN:VEVENT
UID:138604
DTSTAMP:20250527T160000
DTSTART:20250527T160000
DTEND:20250527T170000
SUMMARY:MINIMUM BID AUCTION $199\,000! 22450 Walnut St
LOCATION:22450 Walnut St\, Perrysburg\, OH 43551\, US
DESCRIPTION:Over an acre w/ Pole Barn!
URL:https://www.amlinauctions.com/auctions/detail/bw138604
SEQUENCE:1
END:VEVENT
END:VCALENDAR