BEGIN:VCALENDAR
VERSION:2.0
PRODID:-//ExpressionEngine Easy iCalendar plugin//NONSGML v2.0.1//EN
X-WR-TIMEZONE:America/New_York
X-WR-CALNAME:Upcoming Auctions
BEGIN:VEVENT
UID:138581
DTSTAMP:20250501T160000
DTSTART:20250501T160000
DTEND:20250501T170000
SUMMARY:MINIMUM BID AUCTION $39\,000! 2932 Lagrange St
LOCATION:2932 Lagrange St\, Toledo\, OH 43608\, US
DESCRIPTION:Commercial building w/ apartment!
URL:https://www.amlinauctions.com/auctions/detail/bw138581
SEQUENCE:1
END:VEVENT
END:VCALENDAR