BEGIN:VCALENDAR
VERSION:2.0
PRODID:-//ExpressionEngine Easy iCalendar plugin//NONSGML v2.0.1//EN
X-WR-TIMEZONE:America/New_York
X-WR-CALNAME:Upcoming Auctions
BEGIN:VEVENT
UID:138443
DTSTAMP:20250405T094000
DTSTART:20250405T094000
DTEND:20250413T180000
SUMMARY:TOOLS\, ANTIQUES AND HOUSEHOLD ITEMS ONLINE ONLY AUCTION
LOCATION:917 Oak Street\, Toledo\, OH 43605\, US
DESCRIPTION:Bidding will end on Sunday\, April 13th at 6:00PM. Auction pr
 eview will be Friday\, April 11th from 11:00AM till 1:00PM. L
 oad out will be Tuesday\, April 15th From 10:00AM till 2:00PM
 . All items are located at 917 Oak Street\, Toledo\, Ohio 4360
 5.
URL:https://www.amlinauctions.com/auctions/detail/bw138443
SEQUENCE:1
END:VEVENT
END:VCALENDAR