BEGIN:VCALENDAR
VERSION:2.0
PRODID:-//ExpressionEngine Easy iCalendar plugin//NONSGML v2.0.1//EN
X-WR-TIMEZONE:America/New_York
X-WR-CALNAME:Upcoming Auctions
BEGIN:VEVENT
UID:138346
DTSTAMP:20250430T160000
DTSTART:20250430T160000
DTEND:20250430T170000
SUMMARY:SOLD PRIOR TO AUCTION! 3963 Rockland Circle
LOCATION:3963 Rockland Circle\, Millbury\, OH 43447\, US
DESCRIPTION:SOLD PRIOR TO AUCTION! 
URL:https://www.amlinauctions.com/auctions/detail/bw138346
SEQUENCE:1
END:VEVENT
END:VCALENDAR