BEGIN:VCALENDAR
VERSION:2.0
PRODID:-//ExpressionEngine Easy iCalendar plugin//NONSGML v2.0.1//EN
X-WR-TIMEZONE:America/New_York
X-WR-CALNAME:Upcoming Auctions
BEGIN:VEVENT
UID:138212
DTSTAMP:20250401T131700
DTSTART:20250401T131700
DTEND:20250416T180000
SUMMARY:SZAR'S MENS SHOP LIQUIDATION ONLINE ONLY AUCTION
LOCATION:4743 Summit Street\, Toledo\, OH 43611\, US
DESCRIPTION:Bidding will end on Wednesday\, April 16th at 6:00PM. Auction
  preview will be Tuesday\, April 15th from 3:00PM till 4:00PM
 . Load out will be Friday\, April 18th From 10:00AM till 2:00
 PM. All items are located at 4743 Summit St\, Toledo\, Ohio\, 4
 3611.
URL:https://www.amlinauctions.com/auctions/detail/bw138212
SEQUENCE:1
END:VEVENT
END:VCALENDAR