BEGIN:VCALENDAR
VERSION:2.0
PRODID:-//ExpressionEngine Easy iCalendar plugin//NONSGML v2.0.1//EN
X-WR-TIMEZONE:America/New_York
X-WR-CALNAME:Upcoming Auctions
BEGIN:VEVENT
UID:138184
DTSTAMP:20250506T160000
DTSTART:20250506T160000
DTEND:20250506T170000
SUMMARY:AUCTION IS POSTPONED! 1508 Bell Ave
LOCATION:1508 Bell Ave\, Toledo\, OH 43607\, US
DESCRIPTION:POSTPONED AUCTION! 
URL:https://www.amlinauctions.com/auctions/detail/bw138184
SEQUENCE:1
END:VEVENT
END:VCALENDAR