BEGIN:VCALENDAR
VERSION:2.0
PRODID:-//ExpressionEngine Easy iCalendar plugin//NONSGML v2.0.1//EN
X-WR-TIMEZONE:America/New_York
X-WR-CALNAME:Upcoming Auctions
BEGIN:VEVENT
UID:138079
DTSTAMP:20250424T160000
DTSTART:20250424T160000
DTEND:20250424T170000
SUMMARY:MINIMUM BID AUCTION $40\,000! 917 Oak St
LOCATION:917 Oak St\, Toledo\, OH 43605\, US
DESCRIPTION:Move in ready!
URL:https://www.amlinauctions.com/auctions/detail/bw138079
SEQUENCE:1
END:VEVENT
END:VCALENDAR