BEGIN:VCALENDAR
VERSION:2.0
PRODID:-//ExpressionEngine Easy iCalendar plugin//NONSGML v2.0.1//EN
X-WR-TIMEZONE:America/New_York
X-WR-CALNAME:Upcoming Auctions
BEGIN:VEVENT
UID:137869
DTSTAMP:20250428T160000
DTSTART:20250428T160000
DTEND:20250428T170000
SUMMARY:MINIMUM BID AUCTION $120\,000! 181 Osborn
LOCATION:181 Osborn\, Rossford\, OH 43460\, US
DESCRIPTION:Large Lot!
URL:https://www.amlinauctions.com/auctions/detail/bw137869
SEQUENCE:1
END:VEVENT
END:VCALENDAR