BEGIN:VCALENDAR
VERSION:2.0
PRODID:-//ExpressionEngine Easy iCalendar plugin//NONSGML v2.0.1//EN
X-WR-TIMEZONE:America/New_York
X-WR-CALNAME:Upcoming Auctions
BEGIN:VEVENT
UID:137848
DTSTAMP:20250423T160000
DTSTART:20250423T160000
DTEND:20250423T170000
SUMMARY:MINIMUM BID AUCTION $89\,000! 3362 5th Street
LOCATION:3362 5th Street\, Monroe\, MI 48162\, US
DESCRIPTION:Lake Erie access! 
URL:https://www.amlinauctions.com/auctions/detail/bw137848
SEQUENCE:1
END:VEVENT
END:VCALENDAR