BEGIN:VCALENDAR
VERSION:2.0
PRODID:-//ExpressionEngine Easy iCalendar plugin//NONSGML v2.0.1//EN
X-WR-TIMEZONE:America/New_York
X-WR-CALNAME:Upcoming Auctions
BEGIN:VEVENT
UID:137498
DTSTAMP:20250422T160000
DTSTART:20250422T160000
DTEND:20250422T170000
SUMMARY:MINIMUM BID AUCTION $900\,000! 3133 Edgewood Rd
LOCATION:3133 Edgewood Rd\, Erie\, MI 48133\, US
DESCRIPTION:Over 70 acres! Farm and house!  OPEN HOUSE MONDAY APRIL 7TH
  2-4 PM!! 
URL:https://www.amlinauctions.com/auctions/detail/bw137498
SEQUENCE:1
END:VEVENT
END:VCALENDAR