BEGIN:VCALENDAR
VERSION:2.0
PRODID:-//ExpressionEngine Easy iCalendar plugin//NONSGML v2.0.1//EN
X-WR-TIMEZONE:America/New_York
X-WR-CALNAME:Upcoming Auctions
BEGIN:VEVENT
UID:137332
DTSTAMP:20250424T040000
DTSTART:20250424T040000
DTEND:20250424T050000
SUMMARY:SOLD PRIOR TO AUCTION! 3335 Goddard Rd
LOCATION:{location}
DESCRIPTION:SOLD PRIOR TO AUCTION! 
URL:https://www.amlinauctions.com/auctions/detail/bw137332
SEQUENCE:1
END:VEVENT
END:VCALENDAR