BEGIN:VCALENDAR
VERSION:2.0
PRODID:-//ExpressionEngine Easy iCalendar plugin//NONSGML v2.0.1//EN
X-WR-TIMEZONE:America/New_York
X-WR-CALNAME:Upcoming Auctions
BEGIN:VEVENT
UID:137304
DTSTAMP:20250417T160000
DTSTART:20250417T160000
DTEND:20250417T170000
SUMMARY:MINIMUM BID AUCTION $199\,000! 4264 County Road 5
LOCATION:4264 County Road 5\, Delta\, OH 43515\, US
DESCRIPTION:Large Country home!
URL:https://www.amlinauctions.com/auctions/detail/bw137304
SEQUENCE:1
END:VEVENT
END:VCALENDAR