BEGIN:VCALENDAR
VERSION:2.0
PRODID:-//ExpressionEngine Easy iCalendar plugin//NONSGML v2.0.1//EN
X-WR-TIMEZONE:America/New_York
X-WR-CALNAME:Upcoming Auctions
BEGIN:VEVENT
UID:137035
DTSTAMP:20250414T160000
DTSTART:20250414T160000
DTEND:20250414T170000
SUMMARY:SOLD PRIOR TO AUCTION! 7844 Corduroy Rd
LOCATION:7844 Corduroy Rd\, Oregon\, OH 43616\, US
DESCRIPTION:SOLD PRIOR TO AUCTION! 
URL:https://www.amlinauctions.com/auctions/detail/bw137035
SEQUENCE:1
END:VEVENT
END:VCALENDAR