BEGIN:VCALENDAR
VERSION:2.0
PRODID:-//ExpressionEngine Easy iCalendar plugin//NONSGML v2.0.1//EN
X-WR-TIMEZONE:America/New_York
X-WR-CALNAME:Upcoming Auctions
BEGIN:VEVENT
UID:136984
DTSTAMP:20250312T143600
DTSTART:20250312T143600
DTEND:20250326T180000
SUMMARY:TOWABLE TAILGATE TRAILER ONLINE ONLY AUCTION
LOCATION:7860 Airport Highway\, Holland\, OH 43528\, US
DESCRIPTION:Bidding ends Wednesday March 26th at 6:00PM!
URL:https://www.amlinauctions.com/auctions/detail/bw136984
SEQUENCE:1
END:VEVENT
END:VCALENDAR