BEGIN:VCALENDAR
VERSION:2.0
PRODID:-//ExpressionEngine Easy iCalendar plugin//NONSGML v2.0.1//EN
X-WR-TIMEZONE:America/New_York
X-WR-CALNAME:Upcoming Auctions
BEGIN:VEVENT
UID:136815
DTSTAMP:20250409T160000
DTSTART:20250409T160000
DTEND:20250409T170000
SUMMARY:SOLD PRIOR TO AUCTION! 2524 Maplewood Ave.
LOCATION:2524 Maplewood Ave\, Toledo\, OH 43610\, US
DESCRIPTION:SOLD PRIOR TO AUCTION!
URL:https://www.amlinauctions.com/auctions/detail/bw136815
SEQUENCE:1
END:VEVENT
END:VCALENDAR