BEGIN:VCALENDAR
VERSION:2.0
PRODID:-//ExpressionEngine Easy iCalendar plugin//NONSGML v2.0.1//EN
X-WR-TIMEZONE:America/New_York
X-WR-CALNAME:Upcoming Auctions
BEGIN:VEVENT
UID:136800
DTSTAMP:20250408T160000
DTSTART:20250408T160000
DTEND:20250408T170000
SUMMARY:MINIMUM BID AUCTION $99\,000! 1226 South St
LOCATION:1226 South St\, Fremont\, OH 43420\, US
DESCRIPTION:Move in ready!
URL:https://www.amlinauctions.com/auctions/detail/bw136800
SEQUENCE:1
END:VEVENT
END:VCALENDAR