BEGIN:VCALENDAR
VERSION:2.0
PRODID:-//ExpressionEngine Easy iCalendar plugin//NONSGML v2.0.1//EN
X-WR-TIMEZONE:America/New_York
X-WR-CALNAME:Upcoming Auctions
BEGIN:VEVENT
UID:136681
DTSTAMP:20250407T160000
DTSTART:20250407T160000
DTEND:20250407T170000
SUMMARY:SOLD PRIOR TO AUCTION! 5062 Ford Ave
LOCATION:5062 Ford Ave\, Toledo\, OH 43612\, US
DESCRIPTION:SOLD PRIOR TO AUCTION! 
URL:https://www.amlinauctions.com/auctions/detail/bw136681
SEQUENCE:1
END:VEVENT
END:VCALENDAR