BEGIN:VCALENDAR
VERSION:2.0
PRODID:-//ExpressionEngine Easy iCalendar plugin//NONSGML v2.0.1//EN
X-WR-TIMEZONE:America/New_York
X-WR-CALNAME:Upcoming Auctions
BEGIN:VEVENT
UID:136171
DTSTAMP:20250324T160000
DTSTART:20250324T160000
DTEND:20250324T170000
SUMMARY:MINIMUM BID AUCTION $199\,000! 2904 Byrnwyck W
LOCATION:2904 Byrnwyck W\, Maumee\, OH 43537\, US
DESCRIPTION:On Brandywine golf course!
URL:https://www.amlinauctions.com/auctions/detail/bw136171
SEQUENCE:1
END:VEVENT
END:VCALENDAR