BEGIN:VCALENDAR
VERSION:2.0
PRODID:-//ExpressionEngine Easy iCalendar plugin//NONSGML v2.0.1//EN
X-WR-TIMEZONE:America/New_York
X-WR-CALNAME:Upcoming Auctions
BEGIN:VEVENT
UID:136164
DTSTAMP:20250401T160000
DTSTART:20250401T160000
DTEND:20250401T170000
SUMMARY:MINIMUM BID AUCTION $399\,000! Road 123
LOCATION:14901 Road 123\, Paulding\, OH 45879\, US
DESCRIPTION:Great Business Opportunity! OPEN HOUSE THIS WEDNESDAY MARCH 
 26TH 1-3 PM! 
URL:https://www.amlinauctions.com/auctions/detail/bw136164
SEQUENCE:1
END:VEVENT
END:VCALENDAR