BEGIN:VCALENDAR
VERSION:2.0
PRODID:-//ExpressionEngine Easy iCalendar plugin//NONSGML v2.0.1//EN
X-WR-TIMEZONE:America/New_York
X-WR-CALNAME:Upcoming Auctions
BEGIN:VEVENT
UID:135629
DTSTAMP:20250217T121800
DTSTART:20250217T121800
DTEND:20250225T180000
SUMMARY:FURNITURE\, COLLECTABLES AND HOUSEHOLD ITEMS ONLINE ONLY AUCT
 ION
LOCATION:O 686 Co. Rd. 12\, Napoleon\, OH 43545\, US
DESCRIPTION:Bidding will end on Tuesday\, February 25th at 6:00PM. Aucti
 on preview will be Monday\, February 24th from 12:00PM till 
 1:00PM. Load out will be Thursday\, February 27th from 10:00A
 M till 2:00PM. All items are located at O 686 Co. Rd 12\, Nap
 oleon\, Ohio\, 43545.
URL:https://www.amlinauctions.com/auctions/detail/bw135629
SEQUENCE:1
END:VEVENT
END:VCALENDAR