BEGIN:VCALENDAR
VERSION:2.0
PRODID:-//ExpressionEngine Easy iCalendar plugin//NONSGML v2.0.1//EN
X-WR-TIMEZONE:America/New_York
X-WR-CALNAME:Upcoming Auctions
BEGIN:VEVENT
UID:135565
DTSTAMP:20250305T160000
DTSTART:20250305T160000
DTEND:20250305T170000
SUMMARY:SOLD PRIOR TO AUCTION ! 918 Walnut St
LOCATION:918 Walnut St\, Toledo\, OH 43604\, US
DESCRIPTION:Duplex!
URL:https://www.amlinauctions.com/auctions/detail/bw135565
SEQUENCE:1
END:VEVENT
END:VCALENDAR