BEGIN:VCALENDAR
VERSION:2.0
PRODID:-//ExpressionEngine Easy iCalendar plugin//NONSGML v2.0.1//EN
X-WR-TIMEZONE:America/New_York
X-WR-CALNAME:Upcoming Auctions
BEGIN:VEVENT
UID:135491
DTSTAMP:20250311T160000
DTSTART:20250311T160000
DTEND:20250311T170000
SUMMARY:MINIMUM BID AUCTION $70\,000! 0-686 County Rd 12
LOCATION:0686 County Rd 12\, Napoleon\, OH 43545\, US
DESCRIPTION:Over half and acre! 
URL:https://www.amlinauctions.com/auctions/detail/bw135491
SEQUENCE:1
END:VEVENT
END:VCALENDAR